BEGIN:VCALENDAR
VERSION:2.0
PRODID:-//Rutgers Institute for Health - ECPv6.11.2//NONSGML v1.0//EN
CALSCALE:GREGORIAN
METHOD:PUBLISH
X-WR-CALNAME:Rutgers Institute for Health
X-ORIGINAL-URL:https://ifh.rutgers.edu
X-WR-CALDESC:Events for Rutgers Institute for Health
REFRESH-INTERVAL;VALUE=DURATION:PT1H
X-Robots-Tag:noindex
X-PUBLISHED-TTL:PT1H
BEGIN:VTIMEZONE
TZID:UTC
BEGIN:STANDARD
TZOFFSETFROM:+0000
TZOFFSETTO:+0000
TZNAME:UTC
DTSTART:20250101T000000
END:STANDARD
END:VTIMEZONE
BEGIN:VEVENT
DTSTART;TZID=UTC:20250916T000000
DTEND;TZID=UTC:20250916T235900
DTSTAMP:20260424T073825
CREATED:20250710T143628Z
LAST-MODIFIED:20250722T152007Z
UID:4481-1757980800-1758067140@ifh.rutgers.edu
SUMMARY:IFH40 Speaker Series with Margaret Marsh and Wanda Ronner
DESCRIPTION:Save the date! More info to come!
URL:https://ifh.rutgers.edu/event/ifh40-speaker-series-with-margaret-marsh-and-wanda-ronner/
LOCATION:112 Paterson Street\, New Brunswick
CATEGORIES:40th Anniversary
END:VEVENT
END:VCALENDAR