BEGIN:VCALENDAR
VERSION:2.0
PRODID:-//Rutgers Institute for Health - ECPv6.11.2//NONSGML v1.0//EN
CALSCALE:GREGORIAN
METHOD:PUBLISH
X-WR-CALNAME:Rutgers Institute for Health
X-ORIGINAL-URL:https://ifh.rutgers.edu
X-WR-CALDESC:Events for Rutgers Institute for Health
REFRESH-INTERVAL;VALUE=DURATION:PT1H
X-Robots-Tag:noindex
X-PUBLISHED-TTL:PT1H
BEGIN:VTIMEZONE
TZID:UTC
BEGIN:STANDARD
TZOFFSETFROM:+0000
TZOFFSETTO:+0000
TZNAME:UTC
DTSTART:20250101T000000
END:STANDARD
END:VTIMEZONE
BEGIN:VEVENT
DTSTART;TZID=UTC:20251029T080000
DTEND;TZID=UTC:20251029T170000
DTSTAMP:20260420T210149
CREATED:20250711T054906Z
LAST-MODIFIED:20250722T151859Z
UID:4528-1761724800-1761757200@ifh.rutgers.edu
SUMMARY:IFH40 Speaker Series with Julie Philips
DESCRIPTION:Save the date! More info to come!
URL:https://ifh.rutgers.edu/event/ifh40-speaker-series-with-julie-philips/
LOCATION:112 Paterson Street\, New Brunswick
CATEGORIES:40th Anniversary
END:VEVENT
END:VCALENDAR