BEGIN:VCALENDAR
VERSION:2.0
PRODID:-//Rutgers Institute for Health - ECPv6.11.2//NONSGML v1.0//EN
CALSCALE:GREGORIAN
METHOD:PUBLISH
X-WR-CALNAME:Rutgers Institute for Health
X-ORIGINAL-URL:https://ifh.rutgers.edu
X-WR-CALDESC:Events for Rutgers Institute for Health
REFRESH-INTERVAL;VALUE=DURATION:PT1H
X-Robots-Tag:noindex
X-PUBLISHED-TTL:PT1H
BEGIN:VTIMEZONE
TZID:UTC
BEGIN:STANDARD
TZOFFSETFROM:+0000
TZOFFSETTO:+0000
TZNAME:UTC
DTSTART:20260101T000000
END:STANDARD
END:VTIMEZONE
BEGIN:VEVENT
DTSTART;TZID=UTC:20260108T173000
DTEND;TZID=UTC:20260108T190000
DTSTAMP:20260424T042711
CREATED:20251223T165326Z
LAST-MODIFIED:20251223T181241Z
UID:6185-1767893400-1767898800@ifh.rutgers.edu
SUMMARY:Rutgers Health Artificial Intelligence Virtual Seminar
DESCRIPTION:The Rutgers Health Artificial Intelligence Virtual Seminar Series is designed to connect Rutgers faculty\, staff\, and students interested in AI training and research in health and medicine. The seminar series is co-sponsored by the NJMS Center for Data Science and IFH Center for Biomedical Informatics and Health AI. \nRegister today for January’s seminar\, which will be held on Thursday\, January 8\, beginning with a virtual “meet and greet” at 5:30 pm\, with the seminar starting at 6 pm. \n“Gene Regulatory Mechanisms of Gut Health”\nMichael Verzi\, PhD\, Professor\, Rutgers Department of Genetics \n“Learning Cells in Space: Spatial AI\, Multi-Omics Modeling\, and the Vision of a Virtual Immune Twin”\nJiekun (Jackie) Yang\, PhD\, Assistant Professor\, Rutgers Department of Genetics \nPlease register in advance to attend and for Zoom information: https://go.rutgers.edu/hbjjoj7q \nQuestions? Please reach out to Dr. Evan Johnson wj183@njms.rutgers.edu
URL:https://ifh.rutgers.edu/event/virtual-ai-seminar/
LOCATION:Zoom
CATEGORIES:AI Virtual Seminar
END:VEVENT
END:VCALENDAR