BEGIN:VCALENDAR
VERSION:2.0
PRODID:-//Rutgers Institute for Health - ECPv6.11.2//NONSGML v1.0//EN
CALSCALE:GREGORIAN
METHOD:PUBLISH
X-ORIGINAL-URL:https://ifh.rutgers.edu
X-WR-CALDESC:Events for Rutgers Institute for Health
REFRESH-INTERVAL;VALUE=DURATION:PT1H
X-Robots-Tag:noindex
X-PUBLISHED-TTL:PT1H
BEGIN:VTIMEZONE
TZID:UTC
BEGIN:STANDARD
TZOFFSETFROM:+0000
TZOFFSETTO:+0000
TZNAME:UTC
DTSTART:20260101T000000
END:STANDARD
END:VTIMEZONE
BEGIN:VEVENT
DTSTART;TZID=UTC:20260427T123000
DTEND;TZID=UTC:20260427T140000
DTSTAMP:20260421T070544
CREATED:20260406T163927Z
LAST-MODIFIED:20260406T164230Z
UID:7071-1777293000-1777298400@ifh.rutgers.edu
SUMMARY:Institute for Health Seminar with Dr. Jeremy Greene
DESCRIPTION:Rutgers Institute for Health Seminar\nfeaturing\nJeremy Greene\, MD\, PhD of Johns Hopkins University\n“After the Single Use: Rethinking the Past\, Present\, and Future of Plastics in Healthcare”\nRegister to attend this seminar. \n  \nLocation: In-Person at Rutgers Institute for Health\, Conference Room 120\, 112 Paterson Street\, New Brunswick\, NJ \nVia Zoom (upon registration\, you will receive Zoom details) \n  \nDr. Greene is William H. Welch Professor of Medicine and History of Medicine and Director\, of the Institute of the History of Medicine and the founding Director of the Center for Medical Humanities and Social Medicine at Johns Hopkins University. His research explores the ways in which medical technologies come to influence our understandings of what it means to be sick or healthy\, normal or abnormal\, on personal\, regional\, and global scales. His newest research project\, Syringe Tide: Disposable Technologies and the Making of Medical Waste focuses on the scientific\, social\, and economic basis of the shift towards disposable technologies in hospitals and clinics. \n“After the Single Use: Rethinking the Past\, Present\, and Future of Plastics in Healthcare” \nThe modern medical enterprise is distinctively wasteful.  This may seem to result inevitably from the hazardous nature of medical substances\, whose infection risk\, chemical toxicity\, or radioactivity accordingly require specialized modes of management.  Yet only 15% of global healthcare wastes fit this specialized profile.  The remaining 85% are simply materials that have been built to be disposable rather than reusable\, a staggering volume of single-use items that emit toxins and carbon dioxide when incinerated\, give off methane and other greenhouse gasses while decomposing in landfills\, or\, if they escape these two fates\, float on the surface of the oceans. \nIt was not always this way.  In a relatively short period of time\, we have naturalized the use of single-use plastics in healthcare—and then forgotten there was ever any alternative.  In this talk\, physician-historian Jeremy Greene traces the links between environmental history\, the history of technology\, and the  role that the global healthcare sector now plays in contributing to climate change and plastic waste—and in innovating new solutions to envision more sustainable forms of healthcare.  By attending closely to the historical and social context in which medicine became wasteful\, Greene’s talk offers ways to unseat medical waste as a natural category and reconsider it as the outcome of a set of value decisions we have made in the past\, and can change in the future.
URL:https://ifh.rutgers.edu/event/institute-for-health-seminar-with-dr-jeremy-greene/
LOCATION:IFH and Zoom\, IFH and Zoom
END:VEVENT
BEGIN:VEVENT
DTSTART;TZID=UTC:20260430T120000
DTEND;TZID=UTC:20260430T130000
DTSTAMP:20260421T070544
CREATED:20260420T215434Z
LAST-MODIFIED:20260420T215434Z
UID:7215-1777550400-1777554000@ifh.rutgers.edu
SUMMARY:It's getting hot in here: Climate & Health Seminar Series
DESCRIPTION:“CCHH Metabolism Series Presents Fight Club Round 1: Seed Oils — Friend or Foe?”\nSoko Setoguchi\, MD\, DrPH\, Director\, Rutgers Center for Climate\, Health\, & Healthcare; Professor of Medicine & Epidemiology\, RWJMS & Rutgers School of Public Health \nAayush Visaria\, MD\, MPH\, Core Member\, Rutgers Center for Climate\, Health\, and Healthcare & Instructor\, Rutgers Robert Wood Johnson Medical School \nWelcome to the inaugural Fight Club\, where we spar with numbers\, not fists. In Round 1 of this series\, we take on one of nutrition’s most polarizing topics: seed oils – in or out? Join us for a lively\, evidence-driven debate as we put claims\, studies\, and strong opinions to the test. Expect sharp arguments\, thoughtful discussion\, and plenty of data-driven punches\, to ultimately decide whether seed oils deserve a place on the plate — or a knockout from the pantry. \nHybrid seminar held in the Clinical Academic Building Room 3403\, 125 Paterson Street\, and via Zoom. \nRegister in advance for this meeting: https://rutgers.zoom.us/meeting/register/onDwElZeT-iMm9lgHlhBBA
URL:https://ifh.rutgers.edu/event/its-getting-hot-in-here-climate-health-seminar-series-3/
LOCATION:CAB Building\, 125 Paterson Street\, New Brunswick\, NJ\, 08901\, United States
END:VEVENT
END:VCALENDAR